BEGIN:VCALENDAR
VERSION:2.0
PRODID:-//Zespół Teatralny ZYGZAK - ECPv5.8.2//NONSGML v1.0//EN
CALSCALE:GREGORIAN
METHOD:PUBLISH
X-WR-CALNAME:Zespół Teatralny ZYGZAK
X-ORIGINAL-URL:http://teatrzygzak.pl
X-WR-CALDESC:Wydarzenia na Zespół Teatralny ZYGZAK
BEGIN:VTIMEZONE
TZID:Europe/Warsaw
BEGIN:DAYLIGHT
TZOFFSETFROM:+0100
TZOFFSETTO:+0200
TZNAME:CEST
DTSTART:20170326T010000
END:DAYLIGHT
BEGIN:STANDARD
TZOFFSETFROM:+0200
TZOFFSETTO:+0100
TZNAME:CET
DTSTART:20171029T010000
END:STANDARD
END:VTIMEZONE
BEGIN:VEVENT
DTSTART;TZID=Europe/Warsaw:20171006T150000
DTEND;TZID=Europe/Warsaw:20171006T153000
DTSTAMP:20260423T131334
CREATED:20170914T201653Z
LAST-MODIFIED:20170927T211543Z
UID:353-1507302000-1507303800@teatrzygzak.pl
SUMMARY:"Koronki i kordonki" w Dobczynie
DESCRIPTION:
URL:http://teatrzygzak.pl/wydarzenie/koronki-kordonki-dobczyn/
LOCATION:SP w Dobczynie\, Mazowiecka 67\, Dobczyn\, mazowieckie\, 05-205\, Polska
ATTACH;FMTTYPE=image/jpeg:http://teatrzygzak.pl/wp-content/uploads/2017/04/male-www-1-5.jpg
END:VEVENT
END:VCALENDAR